BEGIN:VCALENDAR
VERSION:2.0
PRODID:-//Queen Rania Center for Entrepreneurship - ECPv6.15.1.1//NONSGML v1.0//EN
CALSCALE:GREGORIAN
METHOD:PUBLISH
X-WR-CALNAME:Queen Rania Center for Entrepreneurship
X-ORIGINAL-URL:https://www.qrce.org
X-WR-CALDESC:Events for Queen Rania Center for Entrepreneurship
REFRESH-INTERVAL;VALUE=DURATION:PT1H
X-Robots-Tag:noindex
X-PUBLISHED-TTL:PT1H
BEGIN:VTIMEZONE
TZID:Asia/Amman
BEGIN:DAYLIGHT
TZOFFSETFROM:+0200
TZOFFSETTO:+0300
TZNAME:EEST
DTSTART:20190328T220000
END:DAYLIGHT
BEGIN:STANDARD
TZOFFSETFROM:+0300
TZOFFSETTO:+0200
TZNAME:EET
DTSTART:20191024T220000
END:STANDARD
BEGIN:DAYLIGHT
TZOFFSETFROM:+0200
TZOFFSETTO:+0300
TZNAME:EEST
DTSTART:20200326T220000
END:DAYLIGHT
BEGIN:STANDARD
TZOFFSETFROM:+0300
TZOFFSETTO:+0200
TZNAME:EET
DTSTART:20201029T220000
END:STANDARD
BEGIN:DAYLIGHT
TZOFFSETFROM:+0200
TZOFFSETTO:+0300
TZNAME:EEST
DTSTART:20210325T220000
END:DAYLIGHT
BEGIN:STANDARD
TZOFFSETFROM:+0300
TZOFFSETTO:+0200
TZNAME:EET
DTSTART:20211028T220000
END:STANDARD
BEGIN:DAYLIGHT
TZOFFSETFROM:+0200
TZOFFSETTO:+0300
TZNAME:EEST
DTSTART:20220224T220000
END:DAYLIGHT
BEGIN:STANDARD
TZOFFSETFROM:+0300
TZOFFSETTO:+0200
TZNAME:EET
DTSTART:20221027T220000
END:STANDARD
BEGIN:DAYLIGHT
TZOFFSETFROM:+0200
TZOFFSETTO:+0300
TZNAME:EEST
DTSTART:20230223T220000
END:DAYLIGHT
BEGIN:STANDARD
TZOFFSETFROM:+0300
TZOFFSETTO:+0200
TZNAME:EET
DTSTART:20231026T220000
END:STANDARD
BEGIN:DAYLIGHT
TZOFFSETFROM:+0200
TZOFFSETTO:+0300
TZNAME:EEST
DTSTART:20240229T220000
END:DAYLIGHT
BEGIN:STANDARD
TZOFFSETFROM:+0300
TZOFFSETTO:+0200
TZNAME:EET
DTSTART:20241024T220000
END:STANDARD
END:VTIMEZONE
BEGIN:VEVENT
DTSTART;TZID=Asia/Amman:20241126T180000
DTEND;TZID=Asia/Amman:20241126T200000
DTSTAMP:20260423T193714
CREATED:20241120T104447Z
LAST-MODIFIED:20241120T104447Z
UID:3551-1732644000-1732651200@www.qrce.org
SUMMARY:Global Entreprenuership Closing Ceremony
DESCRIPTION:The closing ceremony for the Global Entreprenuership Week Jordan 2024
URL:https://www.qrce.org/event/global-entreprenuership-closing-ceremony/
LOCATION:Ritz Carlton Amman\, 5th Circle\, Amman\, Jordan
ORGANIZER;CN="Queen Rania Centre for Entrepreuership":MAILTO:info@qrce.org
END:VEVENT
BEGIN:VEVENT
DTSTART;TZID=Asia/Amman:20200707T110000
DTEND;TZID=Asia/Amman:20200707T140000
DTSTAMP:20260423T193714
CREATED:20200625T074302Z
LAST-MODIFIED:20200705T094855Z
UID:1854-1594119600-1594130400@www.qrce.org
SUMMARY:PSUT Job Fair 2020
DESCRIPTION:تحت رعاية عطوفة الاستاذ الدكتور مشهور الرفاعي رئيس الجامعة، وانطلاقا من أهداف الجامعة الإستراتيجية لتجسير الفجوة بين سوق العمل والمجتمع المحلي، ومن أجل العمل على فتح قنوات الإتصال بين طلبة وخريجيي جامعتنا والقطاع الحكومي والخاص، تنظم جامعة الأميرة سمية للتكنولوجيا اليوم الوظيفي الخامس عشر بطريقة افتراضية (عن بعد)، والذي سيشارك فيه مؤسسات القطاعين العام والخاص من أجل التعرف على طلبتنا واستقطابهم لسوق العمل للتوظيف والتدريب، حيث يتمتع طلبتنا بمستوى عالي من الكفاءة والتـأهيل العلمي والتطبيقي في مجال تكنولوجيا الإتصالات والحوسبة والطاقة وأمن الشبكات والمعلومات والأعمال.
URL:https://www.qrce.org/event/job-fair/
LOCATION:Online (Zoom)
ATTACH;FMTTYPE=image/png:https://www.qrce.org/wp-content/uploads/2020/06/2.png
END:VEVENT
BEGIN:VEVENT
DTSTART;TZID=Asia/Amman:20200605T203000
DTEND;TZID=Asia/Amman:20200605T213000
DTSTAMP:20260423T193714
CREATED:20200604T114728Z
LAST-MODIFIED:20200604T114728Z
UID:1852-1591389000-1591392600@www.qrce.org
SUMMARY:Ask the Expert - Ms.Luma Fawaz and Ms.Serene duwayri
DESCRIPTION:Oasis500 انتظرونا غدا في تمام الساعة 8:30 مساءً في بث مباشر عبر صفحتنا على الفيسبوك مع السيدة لُمى فواز المدير التنفيذي لشركة \nIpark  والسيدة سيرين دويري مدير حاضنة \n  للحديث عن أخطاء الشركات الناشئة الأردنية لعام 2020
URL:https://www.qrce.org/event/ask-the-expert-ms-luma-fawaz-and-ms-serene-duwayri/
END:VEVENT
BEGIN:VEVENT
DTSTART;TZID=Asia/Amman:20200504T213000
DTEND;TZID=Asia/Amman:20200504T223000
DTSTAMP:20260423T193714
CREATED:20200503T224327Z
LAST-MODIFIED:20200503T224327Z
UID:1470-1588627800-1588631400@www.qrce.org
SUMMARY:Ask the Expert / Dr. Amjad Aryan
DESCRIPTION:Smart Moves to Protect Against Financial Disaster
URL:https://www.qrce.org/event/ask-the-expert-dr-amjad-aryan/
LOCATION:Online (Live on Facebook)
ATTACH;FMTTYPE=image/jpeg:https://www.qrce.org/wp-content/uploads/2020/05/Dr-amro.jpeg
END:VEVENT
BEGIN:VEVENT
DTSTART;TZID=Asia/Amman:20200504T080000
DTEND;TZID=Asia/Amman:20200504T170000
DTSTAMP:20260423T193714
CREATED:20200503T224534Z
LAST-MODIFIED:20200503T234053Z
UID:1473-1588579200-1588611600@www.qrce.org
SUMMARY:Ask the Expert / Dr. Amro Madadha
DESCRIPTION:Recruiting Top Talent
URL:https://www.qrce.org/event/ask-the-expert-dr-amro-madadha/
LOCATION:Online (Live on Facebook)
ATTACH;FMTTYPE=image/jpeg:https://www.qrce.org/wp-content/uploads/2020/04/dummy-thumbnail.jpg
END:VEVENT
BEGIN:VEVENT
DTSTART;TZID=Asia/Amman:20200502T213000
DTEND;TZID=Asia/Amman:20200502T223000
DTSTAMP:20260423T193714
CREATED:20200503T191953Z
LAST-MODIFIED:20200503T191953Z
UID:1462-1588455000-1588458600@www.qrce.org
SUMMARY:The Impact of Caricature on the Message of Media
DESCRIPTION:
URL:https://www.qrce.org/event/the-impact-of-caricature-on-the-message-of-media/
LOCATION:Online (Live on Facebook)
ATTACH;FMTTYPE=image/jpeg:https://www.qrce.org/wp-content/uploads/2020/05/event.jpg
END:VEVENT
BEGIN:VEVENT
DTSTART;TZID=Asia/Amman:20200412T160000
DTEND;TZID=Asia/Amman:20200413T190000
DTSTAMP:20260423T193714
CREATED:20200412T123505Z
LAST-MODIFIED:20200426T154523Z
UID:254-1586707200-1586804400@www.qrce.org
SUMMARY:Business model Innovation - Online training for PSUT Training
DESCRIPTION:Business model innovation training is ideal for people working on (disruptive) new products and services within a larger enterprise.
URL:https://www.qrce.org/event/business-model-innovation-online-training-for-psut-training/
LOCATION:Princess Sumaya University for Technology\, Princess Sumaya University for Technology\, Khalil Al-Saket St\, Amman\, Amman\, Jordan
ATTACH;FMTTYPE=image/jpeg:https://www.qrce.org/wp-content/uploads/2020/04/Business-model-innovation-training.jpg
END:VEVENT
BEGIN:VEVENT
DTSTART;TZID=Asia/Amman:20200311T170000
DTEND;TZID=Asia/Amman:20200311T190000
DTSTAMP:20260423T193714
CREATED:20200412T123340Z
LAST-MODIFIED:20200412T212312Z
UID:252-1583946000-1583953200@www.qrce.org
SUMMARY:Testing your business Concept Workshop
DESCRIPTION:Support Master’s in business Entrepreneurship program at PSUT
URL:https://www.qrce.org/event/testing-your-business-concept-workshop/
LOCATION:Princess Sumaya University for Technology\, Princess Sumaya University for Technology\, Khalil Al-Saket St\, Amman\, Amman\, Jordan
ATTACH;FMTTYPE=image/jpeg:https://www.qrce.org/wp-content/uploads/2020/04/dummy-thumbnail.jpg
END:VEVENT
BEGIN:VEVENT
DTSTART;TZID=Asia/Amman:20200304T170000
DTEND;TZID=Asia/Amman:20200304T190000
DTSTAMP:20260423T193714
CREATED:20200412T123258Z
LAST-MODIFIED:20200412T212304Z
UID:250-1583341200-1583348400@www.qrce.org
SUMMARY:Conducting Market Research and Analysis Workshop
DESCRIPTION:Support Master’s in business Entrepreneurship program at PSUT
URL:https://www.qrce.org/event/conducting-market-research-and-analysis-workshop/
LOCATION:Princess Sumaya University for Technology\, Princess Sumaya University for Technology\, Khalil Al-Saket St\, Amman\, Amman\, Jordan
ATTACH;FMTTYPE=image/jpeg:https://www.qrce.org/wp-content/uploads/2020/04/dummy-thumbnail.jpg
END:VEVENT
BEGIN:VEVENT
DTSTART;TZID=Asia/Amman:20200226T170000
DTEND;TZID=Asia/Amman:20200226T190000
DTSTAMP:20260423T193714
CREATED:20200412T123145Z
LAST-MODIFIED:20200412T212258Z
UID:244-1582736400-1582743600@www.qrce.org
SUMMARY:Understanding Customer Development and the Business Model workshop
DESCRIPTION:Support Master’s in Business Entrepreneurship program at PSUT
URL:https://www.qrce.org/event/understanding-customer-development-and-the-business-model-workshop/
LOCATION:Princess Sumaya University for Technology\, Princess Sumaya University for Technology\, Khalil Al-Saket St\, Amman\, Amman\, Jordan
ATTACH;FMTTYPE=image/jpeg:https://www.qrce.org/wp-content/uploads/2020/04/Understanding-Customer-Development-and-the-Business-Model.jpg
END:VEVENT
BEGIN:VEVENT
DTSTART;TZID=Asia/Amman:20200220T090000
DTEND;TZID=Asia/Amman:20200221T170000
DTSTAMP:20260423T193714
CREATED:20200412T122724Z
LAST-MODIFIED:20200412T212251Z
UID:243-1582189200-1582304400@www.qrce.org
SUMMARY:DART Members Training
DESCRIPTION:Entrepreneurship and innovation Marketing\, HR Management\, How to get sponsorships\, Project Management
URL:https://www.qrce.org/event/dart-members-training/
LOCATION:Princess Sumaya University for Technology\, Princess Sumaya University for Technology\, Khalil Al-Saket St\, Amman\, Amman\, Jordan
ATTACH;FMTTYPE=image/jpeg:https://www.qrce.org/wp-content/uploads/2020/04/DART-scaled.jpg
END:VEVENT
BEGIN:VEVENT
DTSTART;TZID=Asia/Amman:20200219T170000
DTEND;TZID=Asia/Amman:20200219T190000
DTSTAMP:20260423T193714
CREATED:20200412T122513Z
LAST-MODIFIED:20200414T153313Z
UID:240-1582131600-1582138800@www.qrce.org
SUMMARY:Exploring Entrepreneurship Workshop
DESCRIPTION:Support Master’s in business Entrepreneurship program at PSUT
URL:https://www.qrce.org/event/exploring-entrepreneurship-workshop/
LOCATION:Princess Sumaya University for Technology\, Princess Sumaya University for Technology\, Khalil Al-Saket St\, Amman\, Amman\, Jordan
ATTACH;FMTTYPE=image/jpeg:https://www.qrce.org/wp-content/uploads/2020/04/Exploring-Entrepreneurship.jpg
END:VEVENT
BEGIN:VEVENT
DTSTART;TZID=Asia/Amman:20191125T180000
DTEND;TZID=Asia/Amman:20191125T200000
DTSTAMP:20260423T193714
CREATED:20200412T113412Z
LAST-MODIFIED:20200412T212208Z
UID:234-1574704800-1574712000@www.qrce.org
SUMMARY:Global Entrepreneurship Week - Closing ceremony
DESCRIPTION:
URL:https://www.qrce.org/event/global-entrepreneurship-week-closing-ceremony/
LOCATION:Princess Sumaya University for Technology\, Princess Sumaya University for Technology\, Khalil Al-Saket St\, Amman\, Amman\, Jordan
ATTACH;FMTTYPE=image/jpeg:https://www.qrce.org/wp-content/uploads/2020/04/GEW-Closing.jpg
END:VEVENT
BEGIN:VEVENT
DTSTART;TZID=Asia/Amman:20191117T120000
DTEND;TZID=Asia/Amman:20191117T140000
DTSTAMP:20260423T193714
CREATED:20200412T113044Z
LAST-MODIFIED:20200412T212127Z
UID:230-1573992000-1573999200@www.qrce.org
SUMMARY:Global Entrepreneurship Week - Press Conference
DESCRIPTION:
URL:https://www.qrce.org/event/global-entrepreneurship-week-press-conference/
LOCATION:The Tank by Umniah\, King Hussain Business Park\, Amman\, Jordan
ATTACH;FMTTYPE=image/jpeg:https://www.qrce.org/wp-content/uploads/2020/04/GEW.jpg
END:VEVENT
END:VCALENDAR