BEGIN:VCALENDAR
VERSION:2.0
PRODID:-//Queen Rania Center for Entrepreneurship - ECPv6.15.1.1//NONSGML v1.0//EN
CALSCALE:GREGORIAN
METHOD:PUBLISH
X-ORIGINAL-URL:https://www.qrce.org/ar/
X-WR-CALDESC:Events for Queen Rania Center for Entrepreneurship
REFRESH-INTERVAL;VALUE=DURATION:PT1H
X-Robots-Tag:noindex
X-PUBLISHED-TTL:PT1H
BEGIN:VTIMEZONE
TZID:Asia/Amman
BEGIN:DAYLIGHT
TZOFFSETFROM:+0200
TZOFFSETTO:+0300
TZNAME:EEST
DTSTART:20190328T220000
END:DAYLIGHT
BEGIN:STANDARD
TZOFFSETFROM:+0300
TZOFFSETTO:+0200
TZNAME:EET
DTSTART:20191024T220000
END:STANDARD
END:VTIMEZONE
BEGIN:VEVENT
DTSTART;TZID=Asia/Amman:20191125T180000
DTEND;TZID=Asia/Amman:20191125T200000
DTSTAMP:20260423T225621
CREATED:20200412T113412Z
LAST-MODIFIED:20200509T002212Z
UID:1679-1574704800-1574712000@www.qrce.org
SUMMARY:الأسبوع العالمي لريادة الأعمال: حفل ختامي
DESCRIPTION:
URL:https://www.qrce.org/ar/event/global-entrepreneurship-week-closing-ceremony/
LOCATION:جامعة الأميرة سمية للتكنولوجيا\, جامعة الأميرة سمية للتكنولوجيا، شارع خليل الساكت، عمان\, عمان\, Jordan
ATTACH;FMTTYPE=image/jpeg:https://www.qrce.org/wp-content/uploads/2020/04/GEW-Closing.jpg
END:VEVENT
BEGIN:VEVENT
DTSTART;TZID=Asia/Amman:20191117T120000
DTEND;TZID=Asia/Amman:20191117T140000
DTSTAMP:20260423T225621
CREATED:20200412T113044Z
LAST-MODIFIED:20200509T001803Z
UID:1676-1573992000-1573999200@www.qrce.org
SUMMARY:الأسبوع العالمي لريادة الأعمال: مؤتمر صحفي
DESCRIPTION:
URL:https://www.qrce.org/ar/event/global-entrepreneurship-week-press-conference/
LOCATION:The Tank من أمنية\, مجمع الملك حسين للأعمال\, عمان\, Jordan
ATTACH;FMTTYPE=image/jpeg:https://www.qrce.org/wp-content/uploads/2020/04/GEW.jpg
END:VEVENT
END:VCALENDAR